Package: HDF5Array Version: 1.35.12 Command: /home/rapidbuild/bbs-3.21-bioc-rapid/R/bin/R CMD check --install=check:HDF5Array.install-out.txt --library=/home/rapidbuild/bbs-3.21-bioc-rapid/R/site-library --timings HDF5Array_1.35.12.tar.gz StartedAt: 2025-02-06 08:52:27 -0500 (Thu, 06 Feb 2025) EndedAt: 2025-02-06 09:29:16 -0500 (Thu, 06 Feb 2025) EllapsedTime: 2209.1 seconds RetCode: 0 Status: OK CheckDir: HDF5Array.Rcheck Warnings: 0