Package: HubPub Version: 1.15.3 Command: /home/rapidbuild/bbs-3.21-bioc-rapid/R/bin/R CMD check --install=check:HubPub.install-out.txt --library=/home/rapidbuild/bbs-3.21-bioc-rapid/R/site-library --timings HubPub_1.15.3.tar.gz StartedAt: 2025-02-06 08:55:26 -0500 (Thu, 06 Feb 2025) EndedAt: 2025-02-06 08:57:05 -0500 (Thu, 06 Feb 2025) EllapsedTime: 98.6 seconds RetCode: 0 Status: OK CheckDir: HubPub.Rcheck Warnings: 0