Package: IHW Version: 1.35.0 Command: /home/rapidbuild/bbs-3.21-bioc-rapid/R/bin/R CMD build --keep-empty-dirs --no-resave-data IHW StartedAt: 2025-02-06 07:06:49 -0500 (Thu, 06 Feb 2025) EndedAt: 2025-02-06 07:08:14 -0500 (Thu, 06 Feb 2025) EllapsedTime: 85.2 seconds RetCode: 0 Status: OK PackageFile: IHW_1.35.0.tar.gz PackageFileSize: 4.005 MiB