Package: IRanges Version: 2.41.2 Command: /home/rapidbuild/bbs-3.21-bioc-rapid/R/bin/R CMD check --install=check:IRanges.install-out.txt --library=/home/rapidbuild/bbs-3.21-bioc-rapid/R/site-library --timings IRanges_2.41.2.tar.gz StartedAt: 2025-02-06 08:57:19 -0500 (Thu, 06 Feb 2025) EndedAt: 2025-02-06 08:59:28 -0500 (Thu, 06 Feb 2025) EllapsedTime: 129.0 seconds RetCode: 1 Status: ERROR CheckDir: IRanges.Rcheck Warnings: NA