Package: IRanges Version: 2.41.2 Command: /home/rapidbuild/bbs-3.21-bioc-rapid/R/bin/R CMD INSTALL IRanges StartedAt: 2025-02-06 06:12:31 -0500 (Thu, 06 Feb 2025) EndedAt: 2025-02-06 06:13:18 -0500 (Thu, 06 Feb 2025) EllapsedTime: 47.2 seconds RetCode: 0 Status: OK