Package: KEGGgraph Version: 1.67.0 Command: /home/rapidbuild/bbs-3.21-bioc-rapid/R/bin/R CMD INSTALL KEGGgraph StartedAt: 2025-02-10 06:14:17 -0500 (Mon, 10 Feb 2025) EndedAt: 2025-02-10 06:14:23 -0500 (Mon, 10 Feb 2025) EllapsedTime: 6.0 seconds RetCode: 0 Status: OK