Package: LoomExperiment Version: 1.25.0 Command: /home/rapidbuild/bbs-3.21-bioc-rapid/R/bin/R CMD build --keep-empty-dirs --no-resave-data LoomExperiment StartedAt: 2025-02-06 07:09:01 -0500 (Thu, 06 Feb 2025) EndedAt: 2025-02-06 07:09:39 -0500 (Thu, 06 Feb 2025) EllapsedTime: 37.6 seconds RetCode: 0 Status: OK PackageFile: LoomExperiment_1.25.0.tar.gz PackageFileSize: 253 KiB