Package: LoomExperiment Version: 1.25.0 Command: /home/rapidbuild/bbs-3.21-bioc-rapid/R/bin/R CMD check --install=check:LoomExperiment.install-out.txt --library=/home/rapidbuild/bbs-3.21-bioc-rapid/R/site-library --timings LoomExperiment_1.25.0.tar.gz StartedAt: 2025-02-06 08:59:33 -0500 (Thu, 06 Feb 2025) EndedAt: 2025-02-06 09:02:27 -0500 (Thu, 06 Feb 2025) EllapsedTime: 173.9 seconds RetCode: 0 Status: OK CheckDir: LoomExperiment.Rcheck Warnings: 0