Package: LoomExperiment Version: 1.25.0 Command: /home/rapidbuild/bbs-3.21-bioc-rapid/R/bin/R CMD INSTALL LoomExperiment StartedAt: 2025-02-06 06:20:27 -0500 (Thu, 06 Feb 2025) EndedAt: 2025-02-06 06:20:55 -0500 (Thu, 06 Feb 2025) EllapsedTime: 28.0 seconds RetCode: 0 Status: OK