Package: MSnbase
Version: 2.33.2
Command: /home/rapidbuild/bbs-3.21-bioc-rapid/R/bin/R CMD build --keep-empty-dirs --no-resave-data MSnbase
StartedAt: 2025-02-21 13:09:35 -0500 (Fri, 21 Feb 2025)
EndedAt: 2025-02-21 13:12:03 -0500 (Fri, 21 Feb 2025)
EllapsedTime: 148.5 seconds
RetCode: 0
Status: OK
PackageFile: MSnbase_2.33.2.tar.gz
PackageFileSize: 6.241 <A href="http://en.wikipedia.org/wiki/MiB" target="_blank">MiB</A>