Package: MatrixGenerics Version: 1.19.1 Command: /home/rapidbuild/bbs-3.21-bioc-rapid/R/bin/R CMD check --install=check:MatrixGenerics.install-out.txt --library=/home/rapidbuild/bbs-3.21-bioc-rapid/R/site-library --timings MatrixGenerics_1.19.1.tar.gz StartedAt: 2025-02-06 09:00:31 -0500 (Thu, 06 Feb 2025) EndedAt: 2025-02-06 09:00:53 -0500 (Thu, 06 Feb 2025) EllapsedTime: 22.3 seconds RetCode: 0 Status: OK CheckDir: MatrixGenerics.Rcheck Warnings: 0