Package: MetaboCoreUtils Version: 1.15.0 Command: /home/rapidbuild/bbs-3.21-bioc-rapid/R/bin/R CMD build --keep-empty-dirs --no-resave-data MetaboCoreUtils StartedAt: 2025-02-06 07:11:50 -0500 (Thu, 06 Feb 2025) EndedAt: 2025-02-06 07:12:03 -0500 (Thu, 06 Feb 2025) EllapsedTime: 12.3 seconds RetCode: 0 Status: OK PackageFile: MetaboCoreUtils_1.15.0.tar.gz PackageFileSize: 1.278 MiB