Package: MetaboCoreUtils Version: 1.15.0 Command: /home/rapidbuild/bbs-3.21-bioc-rapid/R/bin/R CMD INSTALL MetaboCoreUtils StartedAt: 2025-02-06 06:17:01 -0500 (Thu, 06 Feb 2025) EndedAt: 2025-02-06 06:17:08 -0500 (Thu, 06 Feb 2025) EllapsedTime: 7.0 seconds RetCode: 0 Status: OK