Package: MsBackendMgf Version: 1.15.2 Command: /home/rapidbuild/bbs-3.21-bioc-rapid/R/bin/R CMD build --keep-empty-dirs --no-resave-data MsBackendMgf StartedAt: 2025-02-06 07:12:39 -0500 (Thu, 06 Feb 2025) EndedAt: 2025-02-06 07:12:53 -0500 (Thu, 06 Feb 2025) EllapsedTime: 14.0 seconds RetCode: 0 Status: OK PackageFile: MsBackendMgf_1.15.2.tar.gz PackageFileSize: 328.1 KiB