Package: MsBackendSql Version: 1.7.3 Command: /home/rapidbuild/bbs-3.21-bioc-rapid/R/bin/R CMD INSTALL MsBackendSql StartedAt: 2025-02-10 06:17:30 -0500 (Mon, 10 Feb 2025) EndedAt: 2025-02-10 06:17:42 -0500 (Mon, 10 Feb 2025) EllapsedTime: 12.0 seconds RetCode: 0 Status: OK