Package: MsCoreUtils Version: 1.19.0 Command: /home/rapidbuild/bbs-3.21-bioc-rapid/R/bin/R CMD build --keep-empty-dirs --no-resave-data MsCoreUtils StartedAt: 2025-02-05 07:13:23 -0500 (Wed, 05 Feb 2025) EndedAt: 2025-02-05 07:13:34 -0500 (Wed, 05 Feb 2025) EllapsedTime: 11.0 seconds RetCode: 0 Status: OK PackageFile: MsCoreUtils_1.19.0.tar.gz PackageFileSize: 412.2 KiB