Package: MsCoreUtils Version: 1.19.0 Command: /home/rapidbuild/bbs-3.21-bioc-rapid/R/bin/R CMD check --install=check:MsCoreUtils.install-out.txt --library=/home/rapidbuild/bbs-3.21-bioc-rapid/R/site-library --timings MsCoreUtils_1.19.0.tar.gz StartedAt: 2025-02-05 09:08:49 -0500 (Wed, 05 Feb 2025) EndedAt: 2025-02-05 09:10:17 -0500 (Wed, 05 Feb 2025) EllapsedTime: 88.6 seconds RetCode: 0 Status: OK CheckDir: MsCoreUtils.Rcheck Warnings: 0