Package: RBGL
Version: 1.83.0
Maintainer: Bioconductor Package Maintainer
MaintainerEmail: maintainer at bioconductor.org
git_url: https://git.bioconductor.org/packages/RBGL
git_branch: devel
git_last_commit: e0f422c
git_last_commit_date: 2024-11-02 06:19:15 -0500 (Sat, 02 Nov 2024)