Package: RBGL Version: 1.83.0 Command: /home/rapidbuild/bbs-3.21-bioc-rapid/R/bin/R CMD INSTALL RBGL StartedAt: 2025-02-06 06:12:16 -0500 (Thu, 06 Feb 2025) EndedAt: 2025-02-06 06:13:57 -0500 (Thu, 06 Feb 2025) EllapsedTime: 100.3 seconds RetCode: 0 Status: OK