Package: RProtoBufLib Version: 2.19.0 Command: /home/rapidbuild/bbs-3.21-bioc-rapid/R/bin/R CMD build --keep-empty-dirs --no-resave-data RProtoBufLib StartedAt: 2025-02-06 07:29:20 -0500 (Thu, 06 Feb 2025) EndedAt: 2025-02-06 07:33:31 -0500 (Thu, 06 Feb 2025) EllapsedTime: 250.9 seconds RetCode: 0 Status: OK PackageFile: RProtoBufLib_2.19.0.tar.gz PackageFileSize: 2.84 MiB