Package: RaggedExperiment Version: 1.31.1 Command: /home/rapidbuild/bbs-3.21-bioc-rapid/R/bin/R CMD build --keep-empty-dirs --no-resave-data RaggedExperiment StartedAt: 2025-02-13 13:15:31 -0500 (Thu, 13 Feb 2025) EndedAt: 2025-02-13 13:16:04 -0500 (Thu, 13 Feb 2025) EllapsedTime: 33.0 seconds RetCode: 0 Status: OK PackageFile: RaggedExperiment_1.31.1.tar.gz PackageFileSize: 687.1 KiB