Package: Rhdf5lib Version: 1.29.0 Command: /home/rapidbuild/bbs-3.21-bioc-rapid/R/bin/R CMD build --keep-empty-dirs --no-resave-data Rhdf5lib StartedAt: 2025-02-05 07:28:11 -0500 (Wed, 05 Feb 2025) EndedAt: 2025-02-05 07:31:09 -0500 (Wed, 05 Feb 2025) EllapsedTime: 178.0 seconds RetCode: 1 Status: ERROR PackageFile: None PackageFileSize: NA