Package: Rhdf5lib Version: 1.29.0 Command: /home/rapidbuild/bbs-3.21-bioc-rapid/R/bin/R CMD check --install=check:Rhdf5lib.install-out.txt --library=/home/rapidbuild/bbs-3.21-bioc-rapid/R/site-library --timings Rhdf5lib_1.29.0.tar.gz StartedAt: 2025-02-05 03:21:49 -0500 (Wed, 05 Feb 2025) EndedAt: 2025-02-05 03:22:12 -0500 (Wed, 05 Feb 2025) EllapsedTime: 23.3 seconds RetCode: 0 Status: WARNINGS CheckDir: Rhdf5lib.Rcheck Warnings: 1