Package: Rhdf5lib Version: 1.29.0 Command: /home/rapidbuild/bbs-3.21-bioc-rapid/R/bin/R CMD INSTALL Rhdf5lib StartedAt: 2025-02-05 06:04:37 -0500 (Wed, 05 Feb 2025) EndedAt: 2025-02-05 06:08:08 -0500 (Wed, 05 Feb 2025) EllapsedTime: 211.6 seconds RetCode: 0 Status: OK