Package: Rsamtools Version: 2.23.1 Command: /home/rapidbuild/bbs-3.21-bioc-rapid/R/bin/R CMD check --install=check:Rsamtools.install-out.txt --library=/home/rapidbuild/bbs-3.21-bioc-rapid/R/site-library --timings Rsamtools_2.23.1.tar.gz StartedAt: 2025-02-09 09:28:11 -0500 (Sun, 09 Feb 2025) EndedAt: 2025-02-09 09:30:49 -0500 (Sun, 09 Feb 2025) EllapsedTime: 157.7 seconds RetCode: 0 Status: WARNINGS CheckDir: Rsamtools.Rcheck Warnings: 2