Package: Rsamtools Version: 2.23.1 Command: /home/rapidbuild/bbs-3.21-bioc-rapid/R/bin/R CMD INSTALL Rsamtools StartedAt: 2025-02-04 12:21:06 -0500 (Tue, 04 Feb 2025) EndedAt: 2025-02-04 12:21:39 -0500 (Tue, 04 Feb 2025) EllapsedTime: 32.3 seconds RetCode: 0 Status: OK