Package: S4Vectors Version: 0.45.2 Command: /home/rapidbuild/bbs-3.21-bioc-rapid/R/bin/R CMD check --install=check:S4Vectors.install-out.txt --library=/home/rapidbuild/bbs-3.21-bioc-rapid/R/site-library --timings S4Vectors_0.45.2.tar.gz StartedAt: 2025-02-05 09:23:55 -0500 (Wed, 05 Feb 2025) EndedAt: 2025-02-05 09:25:28 -0500 (Wed, 05 Feb 2025) EllapsedTime: 92.6 seconds RetCode: 0 Status: WARNINGS CheckDir: S4Vectors.Rcheck Warnings: 2