Package: S4Vectors Version: 0.45.2 Command: /home/rapidbuild/bbs-3.21-bioc-rapid/R/bin/R CMD INSTALL S4Vectors StartedAt: 2025-02-05 06:10:44 -0500 (Wed, 05 Feb 2025) EndedAt: 2025-02-05 06:11:04 -0500 (Wed, 05 Feb 2025) EllapsedTime: 20.0 seconds RetCode: 0 Status: OK