Package: SPIA Version: 2.59.2 Command: /home/rapidbuild/bbs-3.21-bioc-rapid/R/bin/R CMD INSTALL SPIA StartedAt: 2025-02-10 06:14:24 -0500 (Mon, 10 Feb 2025) EndedAt: 2025-02-10 06:14:29 -0500 (Mon, 10 Feb 2025) EllapsedTime: 5.2 seconds RetCode: 0 Status: OK