Package: ScaledMatrix Version: 1.15.0 Maintainer: Aaron Lun MaintainerEmail: infinite.monkeys.with.keyboards at gmail.com git_url: https://git.bioconductor.org/packages/ScaledMatrix git_branch: devel git_last_commit: bb57f29 git_last_commit_date: 2025-01-17 12:01:32 -0500 (Fri, 17 Jan 2025)