Package: ScaledMatrix Version: 1.15.0 Command: /home/rapidbuild/bbs-3.21-bioc-rapid/R/bin/R CMD build --keep-empty-dirs --no-resave-data ScaledMatrix StartedAt: 2025-02-05 07:34:07 -0500 (Wed, 05 Feb 2025) EndedAt: 2025-02-05 07:36:11 -0500 (Wed, 05 Feb 2025) EllapsedTime: 124.4 seconds RetCode: 0 Status: OK PackageFile: ScaledMatrix_1.15.0.tar.gz PackageFileSize: 306.3 KiB