Package: SparseArray Version: 1.7.5 Command: /home/rapidbuild/bbs-3.21-bioc-rapid/R/bin/R CMD check --install=check:SparseArray.install-out.txt --library=/home/rapidbuild/bbs-3.21-bioc-rapid/R/site-library --timings SparseArray_1.7.5.tar.gz StartedAt: 2025-02-10 09:36:08 -0500 (Mon, 10 Feb 2025) EndedAt: 2025-02-10 09:39:52 -0500 (Mon, 10 Feb 2025) EllapsedTime: 224.3 seconds RetCode: 0 Status: OK CheckDir: SparseArray.Rcheck Warnings: 0