Package: SparseArray Version: 1.7.5 Command: /home/rapidbuild/bbs-3.21-bioc-rapid/R/bin/R CMD INSTALL SparseArray StartedAt: 2025-02-05 06:13:02 -0500 (Wed, 05 Feb 2025) EndedAt: 2025-02-05 06:13:32 -0500 (Wed, 05 Feb 2025) EllapsedTime: 29.6 seconds RetCode: 0 Status: OK