Package: VariantAnnotation Version: 1.53.1 Command: /home/rapidbuild/bbs-3.21-bioc-rapid/R/bin/R CMD build --keep-empty-dirs --no-resave-data VariantAnnotation StartedAt: 2025-02-13 13:34:34 -0500 (Thu, 13 Feb 2025) EndedAt: 2025-02-13 13:36:52 -0500 (Thu, 13 Feb 2025) EllapsedTime: 138.4 seconds RetCode: 0 Status: OK PackageFile: VariantAnnotation_1.53.1.tar.gz PackageFileSize: 2.045 MiB