Package: VariantAnnotation Version: 1.53.1 Command: /home/rapidbuild/bbs-3.21-bioc-rapid/R/bin/R CMD check --install=check:VariantAnnotation.install-out.txt --library=/home/rapidbuild/bbs-3.21-bioc-rapid/R/site-library --timings VariantAnnotation_1.53.1.tar.gz StartedAt: 2025-02-10 09:47:00 -0500 (Mon, 10 Feb 2025) EndedAt: 2025-02-10 09:55:23 -0500 (Mon, 10 Feb 2025) EllapsedTime: 502.3 seconds RetCode: 0 Status: WARNINGS CheckDir: VariantAnnotation.Rcheck Warnings: 2