Package: VariantAnnotation Version: 1.53.1 Command: /home/rapidbuild/bbs-3.21-bioc-rapid/R/bin/R CMD INSTALL VariantAnnotation StartedAt: 2025-02-10 06:26:48 -0500 (Mon, 10 Feb 2025) EndedAt: 2025-02-10 06:27:50 -0500 (Mon, 10 Feb 2025) EllapsedTime: 62.3 seconds RetCode: 0 Status: OK