Package: affxparser Version: 1.79.1 Command: /home/rapidbuild/bbs-3.21-bioc-rapid/R/bin/R CMD build --keep-empty-dirs --no-resave-data affxparser StartedAt: 2025-02-10 06:31:03 -0500 (Mon, 10 Feb 2025) EndedAt: 2025-02-10 06:31:05 -0500 (Mon, 10 Feb 2025) EllapsedTime: 2.3 seconds RetCode: 0 Status: OK PackageFile: affxparser_1.79.1.tar.gz PackageFileSize: 782.8 KiB