Package: affxparser Version: 1.79.1 Command: /home/rapidbuild/bbs-3.21-bioc-rapid/R/bin/R CMD check --install=check:affxparser.install-out.txt --library=/home/rapidbuild/bbs-3.21-bioc-rapid/R/site-library --timings affxparser_1.79.1.tar.gz StartedAt: 2025-02-10 07:52:19 -0500 (Mon, 10 Feb 2025) EndedAt: 2025-02-10 07:52:53 -0500 (Mon, 10 Feb 2025) EllapsedTime: 33.3 seconds RetCode: 0 Status: WARNINGS CheckDir: affxparser.Rcheck Warnings: 2