Package: affxparser Version: 1.79.1 Command: /home/rapidbuild/bbs-3.21-bioc-rapid/R/bin/R CMD INSTALL affxparser StartedAt: 2025-02-10 06:04:32 -0500 (Mon, 10 Feb 2025) EndedAt: 2025-02-10 06:06:03 -0500 (Mon, 10 Feb 2025) EllapsedTime: 91.2 seconds RetCode: 0 Status: OK