Package: affyPLM Version: 1.83.3 Command: /home/rapidbuild/bbs-3.21-bioc-rapid/R/bin/R CMD check --install=check:affyPLM.install-out.txt --library=/home/rapidbuild/bbs-3.21-bioc-rapid/R/site-library --timings affyPLM_1.83.3.tar.gz StartedAt: 2025-02-13 13:39:30 -0500 (Thu, 13 Feb 2025) EndedAt: 2025-02-13 13:42:57 -0500 (Thu, 13 Feb 2025) EllapsedTime: 207.5 seconds RetCode: 0 Status: WARNINGS CheckDir: affyPLM.Rcheck Warnings: 1