Package: alabaster.base Version: 1.7.6 Command: /home/rapidbuild/bbs-3.21-bioc-rapid/R/bin/R CMD check --install=check:alabaster.base.install-out.txt --library=/home/rapidbuild/bbs-3.21-bioc-rapid/R/site-library --timings alabaster.base_1.7.6.tar.gz StartedAt: 2025-02-06 07:49:19 -0500 (Thu, 06 Feb 2025) EndedAt: 2025-02-06 07:50:57 -0500 (Thu, 06 Feb 2025) EllapsedTime: 97.8 seconds RetCode: 0 Status: WARNINGS CheckDir: alabaster.base.Rcheck Warnings: 1