Package: alabaster.base Version: 1.7.6 Command: /home/rapidbuild/bbs-3.21-bioc-rapid/R/bin/R CMD INSTALL alabaster.base StartedAt: 2025-02-06 06:12:33 -0500 (Thu, 06 Feb 2025) EndedAt: 2025-02-06 06:13:45 -0500 (Thu, 06 Feb 2025) EllapsedTime: 71.7 seconds RetCode: 0 Status: OK