Package: alabaster.matrix Version: 1.7.6 Command: /home/rapidbuild/bbs-3.21-bioc-rapid/R/bin/R CMD build --keep-empty-dirs --no-resave-data alabaster.matrix StartedAt: 2025-02-06 06:31:46 -0500 (Thu, 06 Feb 2025) EndedAt: 2025-02-06 06:32:19 -0500 (Thu, 06 Feb 2025) EllapsedTime: 33.0 seconds RetCode: 0 Status: OK PackageFile: alabaster.matrix_1.7.6.tar.gz PackageFileSize: 273.6 KiB