Package: alabaster.matrix Version: 1.7.6 Command: /home/rapidbuild/bbs-3.21-bioc-rapid/R/bin/R CMD check --install=check:alabaster.matrix.install-out.txt --library=/home/rapidbuild/bbs-3.21-bioc-rapid/R/site-library --timings alabaster.matrix_1.7.6.tar.gz StartedAt: 2025-02-06 07:49:19 -0500 (Thu, 06 Feb 2025) EndedAt: 2025-02-06 07:52:40 -0500 (Thu, 06 Feb 2025) EllapsedTime: 201.2 seconds RetCode: 0 Status: OK CheckDir: alabaster.matrix.Rcheck Warnings: 0