Package: alabaster.matrix Version: 1.7.6 Command: /home/rapidbuild/bbs-3.21-bioc-rapid/R/bin/R CMD INSTALL alabaster.matrix StartedAt: 2025-02-06 06:16:35 -0500 (Thu, 06 Feb 2025) EndedAt: 2025-02-06 06:17:01 -0500 (Thu, 06 Feb 2025) EllapsedTime: 25.7 seconds RetCode: 0 Status: OK