Package: alabaster.se Version: 1.7.0 Command: /home/rapidbuild/bbs-3.21-bioc-rapid/R/bin/R CMD check --install=check:alabaster.se.install-out.txt --library=/home/rapidbuild/bbs-3.21-bioc-rapid/R/site-library --timings alabaster.se_1.7.0.tar.gz StartedAt: 2025-02-10 07:54:40 -0500 (Mon, 10 Feb 2025) EndedAt: 2025-02-10 07:58:33 -0500 (Mon, 10 Feb 2025) EllapsedTime: 233.0 seconds RetCode: 0 Status: OK CheckDir: alabaster.se.Rcheck Warnings: 0