Package: alabaster.se Version: 1.7.0 Command: /home/rapidbuild/bbs-3.21-bioc-rapid/R/bin/R CMD INSTALL alabaster.se StartedAt: 2025-02-10 06:20:08 -0500 (Mon, 10 Feb 2025) EndedAt: 2025-02-10 06:20:32 -0500 (Mon, 10 Feb 2025) EllapsedTime: 23.6 seconds RetCode: 0 Status: OK