Package: annotate Version: 1.85.0 Command: /home/rapidbuild/bbs-3.21-bioc-rapid/R/bin/R CMD build --keep-empty-dirs --no-resave-data annotate StartedAt: 2025-02-05 06:30:41 -0500 (Wed, 05 Feb 2025) EndedAt: 2025-02-05 06:31:37 -0500 (Wed, 05 Feb 2025) EllapsedTime: 55.5 seconds RetCode: 0 Status: OK PackageFile: annotate_1.85.0.tar.gz PackageFileSize: 1.786 MiB