Package: annotate Version: 1.85.0 Command: /home/rapidbuild/bbs-3.21-bioc-rapid/R/bin/R CMD check --install=check:annotate.install-out.txt --library=/home/rapidbuild/bbs-3.21-bioc-rapid/R/site-library --timings annotate_1.85.0.tar.gz StartedAt: 2025-02-10 07:54:47 -0500 (Mon, 10 Feb 2025) EndedAt: 2025-02-10 07:59:43 -0500 (Mon, 10 Feb 2025) EllapsedTime: 296.0 seconds RetCode: 0 Status: OK CheckDir: annotate.Rcheck Warnings: 0