Package: assorthead Version: 1.1.13 Command: /home/rapidbuild/bbs-3.21-bioc-rapid/R/bin/R CMD build --keep-empty-dirs --no-resave-data assorthead StartedAt: 2025-02-11 06:31:12 -0500 (Tue, 11 Feb 2025) EndedAt: 2025-02-11 06:31:17 -0500 (Tue, 11 Feb 2025) EllapsedTime: 5.0 seconds RetCode: 0 Status: OK PackageFile: assorthead_1.1.13.tar.gz PackageFileSize: 1.738 MiB